BEGIN:VCALENDAR
VERSION:2.0
PRODID:icalendar-ruby
CALSCALE:GREGORIAN
X-WR-TIMEZONE:Europe/Helsinki
BEGIN:VTIMEZONE
TZID:Europe/Helsinki
BEGIN:DAYLIGHT
DTSTART:20260329T040000
TZOFFSETFROM:+0200
TZOFFSETTO:+0300
RRULE:FREQ=YEARLY;BYDAY=-1SU;BYMONTH=3
TZNAME:EEST
END:DAYLIGHT
BEGIN:STANDARD
DTSTART:20261025T030000
TZOFFSETFROM:+0300
TZOFFSETTO:+0200
RRULE:FREQ=YEARLY;BYDAY=-1SU;BYMONTH=10
TZNAME:EET
END:STANDARD
END:VTIMEZONE
BEGIN:VEVENT
DTSTAMP:20260424T225957
UID:helmibasket.myclub.fi-10606560
DTSTART;TZID=Europe/Helsinki:20260503T161500
DTEND;TZID=Europe/Helsinki:20260503T161500
DESCRIPTION:Maksuton kokeilukerta KESÄN 2026 sunnuntain klo 16.15-17.30 He
 lmi Centerin naisten NOUSEVAT TÄHDET ryhmään ( Taso 1-3 ).\n\nTreenipä
 ivät\n3.5.-9.8.2025.\nYhteensä harjoituksia Kesäkaudella 13 kertaa.\nEI
  treenejä 10.5 (äitienpäivä) eikä 21.6 (juhannus)\n\nTreenit Helmi Ce
 nterissä Malmilla (Vanha Helsingintie 13)\nKokeilukerralta saat myös kor
 ipallon ilmaiseksi omaksi\, jos sinulla ei sellaista vielä ole.\nSeura ei
  vakuuta pelaajia\, joten vakuutusturva kannattaa tarkistaa omasta vakuutu
 syhtiöstä.\n\nP.S. Jos kokeilukerran jälkeen haluat ilmoittautua kesän
  2026 ryhmään\, niin ilmoittautumistiedot löytyvät alla olevan linkin 
 takaa:\nhttps://www.superhelmi.fi/joukkueet-2/kuntokoris-helsinki-naiset-j
 a-mi/kuntokoripallo-kesa-2025/\n\nJos mitä tahansa ongelmia ilmoittautumi
 sessa tai tarvitset lisätietoja\, niin olethan yhteydessä:\n\nMiten löy
 dät paikalle\n Treenipaikkamme Helmi Centerin osoite on Vanha Helsinginti
 e 13.\nHUOM! Jotkut navigaattorit ohjaavat viereiselle Stadin ammattiopist
 olle\, mutta siis Perho Liiketalousopiston yhteydesssä Helmi Centerissä 
 treenit.\nKäytä hakusanaa Helmi Basket tai Helmi Center googlessa\, niin
  löydät perille.\nParkkipaikalta lähde kiertämään rakennusta kävely
 tietä oikealta puolelta ja talon oikeassa päädyssä on Helmi Centerin s
 isäänkäynti.\n\nErja Hakamäki Helmi Basket ry Puh 045 314 4059 erja.ha
 kamaki@helmibasket.fi\n\nhttps://helmibasket.myclub.fi/flow/events/1060656
 0
LOCATION:Helmi Center\, 
SEQUENCE:0
SUMMARY:Aikuisten koripallokurssit: Maksuton kokeilukerta sunnuntain klo 16
 .15-17.30 Helmi Centerin naisten Nousevat tähdet ryhmään (Taso 1-3)  KE
 SÄ 2026
URL;VALUE=URI:https://helmibasket.myclub.fi/flow/events/10606560
END:VEVENT
END:VCALENDAR
