BEGIN:VCALENDAR
VERSION:2.0
PRODID:icalendar-ruby
CALSCALE:GREGORIAN
X-WR-TIMEZONE:Europe/Helsinki
BEGIN:VTIMEZONE
TZID:Europe/Helsinki
BEGIN:DAYLIGHT
DTSTART:20260329T040000
TZOFFSETFROM:+0200
TZOFFSETTO:+0300
RRULE:FREQ=YEARLY;BYDAY=-1SU;BYMONTH=3
TZNAME:EEST
END:DAYLIGHT
BEGIN:STANDARD
DTSTART:20261025T030000
TZOFFSETFROM:+0300
TZOFFSETTO:+0200
RRULE:FREQ=YEARLY;BYDAY=-1SU;BYMONTH=10
TZNAME:EET
END:STANDARD
END:VTIMEZONE
BEGIN:VEVENT
DTSTAMP:20260424T230911
UID:helmibasket.myclub.fi-10606676
DTSTART;TZID=Europe/Helsinki:20260503T173000
DTEND;TZID=Europe/Helsinki:20260503T173000
DESCRIPTION:Maksuton kokeilukerta KESÄN 2026 sunnuntain klo 17.30-19.00 He
 lmi Centerin naisten PELURIT ryhmään ( Taso 4-5 ).\n\nTreenipäivät\n3.
 5.-9.8.2025.\nYhteensä harjoituksia Kesäkaudella 13 kertaa.\nEI treenej
 ä 10.5 (äitienpäivä) eikä 21.6 (juhannus)\n\nTreenit Helmi Centeriss
 ä Malmilla (Vanha Helsingintie 13)\nKokeilukerralta saat myös koripallon
  ilmaiseksi omaksi\, jos sinulla ei sellaista vielä ole.\nSeura ei vakuut
 a pelaajia\, joten vakuutusturva kannattaa tarkistaa omasta vakuutusyhtiö
 stä.\n\nP.S. Jos kokeilukerran jälkeen haluat ilmoittautua kesän 2026 r
 yhmään\, niin ilmoittautumistiedot löytyvät alla olevan linkin takaa:\
 nhttps://www.superhelmi.fi/joukkueet-2/kuntokoris-helsinki-naiset-ja-mi/ku
 ntokoripallo-kesa-2025/\n\nJos mitä tahansa ongelmia ilmoittautumisessa t
 ai tarvitset lisätietoja\, niin olethan yhteydessä:\n\nMiten löydät pa
 ikalle\n Treenipaikkamme Helmi Centerin osoite on Vanha Helsingintie 13.\n
 HUOM! Jotkut navigaattorit ohjaavat viereiselle Stadin ammattiopistolle\, 
 mutta siis Perho Liiketalousopiston yhteydesssä Helmi Centerissä treenit
 .\nKäytä hakusanaa Helmi Basket tai Helmi Center googlessa\, niin löyd
 ät perille.\nParkkipaikalta lähde kiertämään rakennusta kävelytietä
  oikealta puolelta ja talon oikeassa päädyssä on Helmi Centerin sisää
 nkäynti.\n\nErja Hakamäki Helmi Basket ry Puh 045 314 4059 erja.hakamaki
 @helmibasket.fi\n\nhttps://helmibasket.myclub.fi/flow/events/10606676
LOCATION:Helmi Center\, 
SEQUENCE:0
SUMMARY:Aikuisten koripallokurssit: Maksuton kokeilukerta sunnuntain klo 17
 .30-19.00 Helmi Centerin naisten PELURIT ryhmään (Taso 4-5)  KESÄ 2026
URL;VALUE=URI:https://helmibasket.myclub.fi/flow/events/10606676
END:VEVENT
END:VCALENDAR
