BEGIN:VCALENDAR
VERSION:2.0
PRODID:icalendar-ruby
CALSCALE:GREGORIAN
X-WR-TIMEZONE:Europe/Helsinki
BEGIN:VTIMEZONE
TZID:Europe/Helsinki
BEGIN:DAYLIGHT
DTSTART:20260329T040000
TZOFFSETFROM:+0200
TZOFFSETTO:+0300
RRULE:FREQ=YEARLY;BYDAY=-1SU;BYMONTH=3
TZNAME:EEST
END:DAYLIGHT
BEGIN:STANDARD
DTSTART:20261025T030000
TZOFFSETFROM:+0300
TZOFFSETTO:+0200
RRULE:FREQ=YEARLY;BYDAY=-1SU;BYMONTH=10
TZNAME:EET
END:STANDARD
END:VTIMEZONE
BEGIN:VEVENT
DTSTAMP:20260424T230814
UID:helmibasket.myclub.fi-10606692
DTSTART;TZID=Europe/Helsinki:20260503T173000
DTEND;TZID=Europe/Helsinki:20260503T173000
DESCRIPTION:Maksuton kokeilukerta KESÄN 2026 sunnuntain klo 19:00-20.30 He
 lmi Centerin miesten ja naisten LEGENDAT yhteisryhmään (Taso 5).\n\nTree
 nipäivät\n3.5.-9.8.2025.\nYhteensä harjoituksia Kesäkaudella 13 kertaa
 .\nEI treenejä 10.5 (äitienpäivä) eikä 21.6 (juhannus)\n\nTreenit Hel
 mi Centerissä Malmilla (Vanha Helsingintie 13)\nKokeilukerralta saat myö
 s koripallon ilmaiseksi omaksi\, jos sinulla ei sellaista vielä ole.\nSeu
 ra ei vakuuta pelaajia\, joten vakuutusturva kannattaa tarkistaa omasta va
 kuutusyhtiöstä.\n\nP.S. Jos kokeilukerran jälkeen haluat ilmoittautua k
 esän 2026 ryhmään\, niin ilmoittautumistiedot löytyvät alla olevan li
 nkin takaa:\nhttps://www.superhelmi.fi/joukkueet-2/kuntokoris-helsinki-nai
 set-ja-mi/kuntokoripallo-kesa-2025/\n\nJos mitä tahansa ongelmia ilmoitta
 utumisessa tai tarvitset lisätietoja\, niin olethan yhteydessä:\n\nMiten
  löydät paikalle\n Treenipaikkamme Helmi Centerin osoite on Vanha Helsin
 gintie 13.\nHUOM! Jotkut navigaattorit ohjaavat viereiselle Stadin ammatti
 opistolle\, mutta siis Perho Liiketalousopiston yhteydesssä Helmi Centeri
 ssä treenit.\nKäytä hakusanaa Helmi Basket tai Helmi Center googlessa\,
  niin löydät perille.\nParkkipaikalta lähde kiertämään rakennusta k
 ävelytietä oikealta puolelta ja talon oikeassa päädyssä on Helmi Cent
 erin sisäänkäynti.\n\nErja Hakamäki Helmi Basket ry Puh 045 314 4059 e
 rja.hakamaki@helmibasket.fi\n\nhttps://helmibasket.myclub.fi/flow/events/1
 0606692
LOCATION:Helmi Center\, 
SEQUENCE:0
SUMMARY:Aikuisten koripallokurssit: Maksuton kokeilukerta sunnuntain klo 19
 .00-20:30 Helmi Centerin miesten ja naisten LEGENDAT yhteisryhmään (Taso
  5)  KESÄ 2026
URL;VALUE=URI:https://helmibasket.myclub.fi/flow/events/10606692
END:VEVENT
END:VCALENDAR
