BEGIN:VCALENDAR
VERSION:2.0
PRODID:icalendar-ruby
CALSCALE:GREGORIAN
X-WR-TIMEZONE:Europe/Helsinki
BEGIN:VTIMEZONE
TZID:Europe/Helsinki
BEGIN:DAYLIGHT
DTSTART:20260329T040000
TZOFFSETFROM:+0200
TZOFFSETTO:+0300
RRULE:FREQ=YEARLY;BYDAY=-1SU;BYMONTH=3
TZNAME:EEST
END:DAYLIGHT
BEGIN:STANDARD
DTSTART:20261025T030000
TZOFFSETFROM:+0300
TZOFFSETTO:+0200
RRULE:FREQ=YEARLY;BYDAY=-1SU;BYMONTH=10
TZNAME:EET
END:STANDARD
END:VTIMEZONE
BEGIN:VEVENT
DTSTAMP:20260424T225817
UID:helmibasket.myclub.fi-10606720
DTSTART;TZID=Europe/Helsinki:20260506T183000
DTEND;TZID=Europe/Helsinki:20260506T183000
DESCRIPTION:Maksuton kokeilukerta KESÄN 2026 keskiviikon klo 18:30-19.45 H
 elmi Centerin naisten sekaryhmään ( Taso 2-4).\n\nTreenipäivät\n6.5.-5
 .8.2025.\nYhteensä harjoituksia Kesäkaudella 10 kertaa.\n\nTAUKO vko 26-
  29 (22.6 - 19.7)\nEi harjoituksia siis 24.6 / 1.7 / 8.7 / 15.7\n\nTreenit
  Helmi Centerissä Malmilla (Vanha Helsingintie 13)\nKokeilukerralta saat 
 myös koripallon ilmaiseksi omaksi\, jos sinulla ei sellaista vielä ole.\
 nSeura ei vakuuta pelaajia\, joten vakuutusturva kannattaa tarkistaa omast
 a vakuutusyhtiöstä.\n\nP.S. Jos kokeilukerran jälkeen haluat ilmoittaut
 ua kesän 2026 ryhmään\, niin ilmoittautumistiedot löytyvät alla oleva
 n linkin takaa:\nhttps://www.superhelmi.fi/joukkueet-2/kuntokoris-helsinki
 -naiset-ja-mi/kuntokoripallo-kesa-2025/\n\nJos mitä tahansa ongelmia ilmo
 ittautumisessa tai tarvitset lisätietoja\, niin olethan yhteydessä:\n\nM
 iten löydät paikalle\n Treenipaikkamme Helmi Centerin osoite on Vanha He
 lsingintie 13.\nHUOM! Jotkut navigaattorit ohjaavat viereiselle Stadin amm
 attiopistolle\, mutta siis Perho Liiketalousopiston yhteydesssä Helmi Cen
 terissä treenit.\nKäytä hakusanaa Helmi Basket tai Helmi Center googles
 sa\, niin löydät perille.\nParkkipaikalta lähde kiertämään rakennust
 a kävelytietä oikealta puolelta ja talon oikeassa päädyssä on Helmi C
 enterin sisäänkäynti.\n\nErja Hakamäki Helmi Basket ry Puh 045 314 405
 9 erja.hakamaki@helmibasket.fi\n\nhttps://helmibasket.myclub.fi/flow/event
 s/10606720
LOCATION:Helmi Center\, 
SEQUENCE:0
SUMMARY:Aikuisten koripallokurssit: Maksuton kokeilukerta keskiviikon klo 1
 8.30-19.45 Helmi Centerin naisten sekaryhmään (Taso 2-4)  KESÄ 2026
URL;VALUE=URI:https://helmibasket.myclub.fi/flow/events/10606720
END:VEVENT
END:VCALENDAR
